BEGIN:VCALENDAR
VERSION:2.0
PRODID:-//Brick Bodies - ECPv6.6.4.2//NONSGML v1.0//EN
CALSCALE:GREGORIAN
METHOD:PUBLISH
X-ORIGINAL-URL:https://www.brickbodies.com
X-WR-CALDESC:Events for Brick Bodies
REFRESH-INTERVAL;VALUE=DURATION:PT1H
X-Robots-Tag:noindex
X-PUBLISHED-TTL:PT1H
BEGIN:VTIMEZONE
TZID:America/New_York
BEGIN:DAYLIGHT
TZOFFSETFROM:-0500
TZOFFSETTO:-0400
TZNAME:EDT
DTSTART:20230312T070000
END:DAYLIGHT
BEGIN:STANDARD
TZOFFSETFROM:-0400
TZOFFSETTO:-0500
TZNAME:EST
DTSTART:20231105T060000
END:STANDARD
BEGIN:DAYLIGHT
TZOFFSETFROM:-0500
TZOFFSETTO:-0400
TZNAME:EDT
DTSTART:20240310T070000
END:DAYLIGHT
BEGIN:STANDARD
TZOFFSETFROM:-0400
TZOFFSETTO:-0500
TZNAME:EST
DTSTART:20241103T060000
END:STANDARD
END:VTIMEZONE
BEGIN:VEVENT
DTSTART;VALUE=DATE:20240527
DTEND;VALUE=DATE:20240528
DTSTAMP:20260421T095429
CREATED:20240426T200425Z
LAST-MODIFIED:20240426T200425Z
UID:157830-1716768000-1716854399@www.brickbodies.com
SUMMARY:Padonia Memorial Day Hours
DESCRIPTION:Padonia Holiday Hours \n\nClub Hours 6am-2pm\nAquatics Center 6am-1pm\nLittle Bricks 8am-1pm\nRecover 8am-1pm\n\n  \nGroup Fitness \nGroup Fitness schedules are modified for the Holidays. Please check the website or app schedule for available classes.
URL:https://www.brickbodies.com/event/padonia-memorial-day-hours/
CATEGORIES:Padonia
END:VEVENT
BEGIN:VEVENT
DTSTART;TZID=America/New_York:20240525T090000
DTEND;TZID=America/New_York:20240525T100000
DTSTAMP:20260421T095429
CREATED:20240426T200230Z
LAST-MODIFIED:20240426T200230Z
UID:157829-1716627600-1716631200@www.brickbodies.com
SUMMARY:Walk for Wellness
DESCRIPTION:Join Personal Training Director Jen Wall on the NCR Trail for a Mental Health Awareness Walk\, free for members and guests of all fitness levels. An intentional walk focused on your mental awareness rather than fitness goals. With each step you take during this one-hour walk\, you’ll focus on breathing\, and feeling the sensations and movements of your body. This process increases intention and brings awareness to both your movement and your environment. We’ll walk rain or shine! \n\nWhat to Expect: \n\nPower Walking intervals paired with Mindful Walking intervals\nDuration: 1 hour (estimated two miles)\nThis section of the NCR Trail is flat\, crushed limestone\n\nTrail Entrance: \n\nMile 0.5 Paper Mill\nTake York Road (Route 45) to Cockeysville (Exit 18 off I-83). Turn right(east) on Ashland Road. Bear left onto Paper Mill Road.\nGo less than a half-mile\, crossing the trail to the parking lot on the left.\nThere are spot-o-pots located a half-mile north\, just beyond mile marker 1.\n\nRegister Here
URL:https://www.brickbodies.com/event/walk-for-wellness/
CATEGORIES:Padonia,Reisterstown,Rotunda
END:VEVENT
BEGIN:VEVENT
DTSTART;TZID=America/New_York:20240521T183000
DTEND;TZID=America/New_York:20240521T190000
DTSTAMP:20260421T095429
CREATED:20240426T202121Z
LAST-MODIFIED:20240426T202121Z
UID:157838-1716316200-1716318000@www.brickbodies.com
SUMMARY:FREE Pop-Up Meditation and Breathwork Classes
DESCRIPTION:For Mental Health Awareness Month \n\nMay is Mental Health Awareness Month. Join us for short\, specialty meditation and breathwork classes throughout the month to reduce stress and anxiety and increase levels of serotonin. \n\nPadonia | Balance Studio | With Courtney Bisset \nSign Up!
URL:https://www.brickbodies.com/event/free-pop-up-meditation-and-breathwork-classes-3/
CATEGORIES:Padonia
END:VEVENT
BEGIN:VEVENT
DTSTART;TZID=America/New_York:20240519T090000
DTEND;TZID=America/New_York:20240519T100000
DTSTAMP:20260421T095429
CREATED:20240426T200952Z
LAST-MODIFIED:20240426T200952Z
UID:157833-1716109200-1716112800@www.brickbodies.com
SUMMARY:Funk & Soul Ride
DESCRIPTION:Sunday\, may 19th | 9Am | SHIFT | with Julie Lincoln \n\nIgnite your spirit and move to the groove of iconic funk and soul tunes at Brick Bodies first Funk and Soul Ride! Julie will lead this funky class on a journey through pulsating rhythms and infectious melodies. Let the music guide your ride where every pedal stroke is infused with passion and each beat resonates with your soul. Come ready to sweat\, groove crank up the volume and experience the ultimate fusion of fitness and soul-stirring music in our Funk & Soul spin class. Let’s Ride!
URL:https://www.brickbodies.com/event/funk-soul-ride/
CATEGORIES:Padonia
END:VEVENT
BEGIN:VEVENT
DTSTART;TZID=America/New_York:20240516T113000
DTEND;TZID=America/New_York:20240516T120000
DTSTAMP:20260421T095429
CREATED:20240426T201944Z
LAST-MODIFIED:20240426T201944Z
UID:157837-1715859000-1715860800@www.brickbodies.com
SUMMARY:FREE Pop-Up Meditation and Breathwork Classes
DESCRIPTION:For Mental Health Awareness Month \n\nMay is Mental Health Awareness Month. Join us for short\, specialty meditation and breathwork classes throughout the month to reduce stress and anxiety and increase levels of serotonin. \n\nPadonia | Balance Studio | With Abir Alzenate \nSign Up!
URL:https://www.brickbodies.com/event/free-pop-up-meditation-and-breathwork-classes-2/
CATEGORIES:Padonia
END:VEVENT
BEGIN:VEVENT
DTSTART;TZID=America/New_York:20240513T183000
DTEND;TZID=America/New_York:20240513T190000
DTSTAMP:20260421T095429
CREATED:20240426T201820Z
LAST-MODIFIED:20240426T201820Z
UID:157836-1715625000-1715626800@www.brickbodies.com
SUMMARY:FREE Pop-Up Meditation and Breathwork Classes
DESCRIPTION:For Mental Health Awareness Month \n\nMay is Mental Health Awareness Month. Join us for short\, specialty meditation and breathwork classes throughout the month to reduce stress and anxiety and increase levels of serotonin. \n\nPadonia | Balance Studio | With Ariana Merrifield \nSign Up!
URL:https://www.brickbodies.com/event/free-pop-up-meditation-and-breathwork-classes/
CATEGORIES:Padonia
END:VEVENT
BEGIN:VEVENT
DTSTART;TZID=America/New_York:20240503T173000
DTEND;TZID=America/New_York:20240503T203000
DTSTAMP:20260421T095429
CREATED:20240426T195153Z
LAST-MODIFIED:20240426T195308Z
UID:157827-1714757400-1714768200@www.brickbodies.com
SUMMARY:Little Bricks Date Night!
DESCRIPTION:PARENTS! Are you looking for time for yourself? To spend some adult time and make sure your kids have fun? Little Bricks Date Night has you covered! \n\nKids ages 1 year – 12 years Pizza\, Goldfish\, Crafts and More! \n\n$20 First Child | $5 Each Additional Child Reserve your spot by completing the waiver upon your next Little Bricks visit. Registration required\, walk-ins not accepted. \n\nVisit Little Bricks to learn more or register today! Next Date Night- June 7th!
URL:https://www.brickbodies.com/event/little-bricks-date-night-2/
CATEGORIES:Padonia
END:VEVENT
BEGIN:VEVENT
DTSTART;TZID=America/New_York:20240426T173000
DTEND;TZID=America/New_York:20240426T183000
DTSTAMP:20260421T095429
CREATED:20240402T140943Z
LAST-MODIFIED:20240402T140943Z
UID:156402-1714152600-1714156200@www.brickbodies.com
SUMMARY:NSFW Ride
DESCRIPTION:NSFW Ride\nGuess Who’s Back? Back Again! \nSpecialty NSFW (Not Safe For Work) Cycling Class | FREE\nFriday\, April 26th | 5:30pm | SHIFT Join Elizabeth Graber for a ride like no other\, where we crank up the volume with a playlist that’s as bold and daring as you are. \nThe NSFW Ride will feature your favorite hit music- UNCENSORED! \nGet ready and gear up for an electrifying ride\, with the ultimate soundtrack for shaking off stress and embracing the Night Rider energy. \nFollowed by a social Happy Hour at Mother’s Grille with appetizers provided by Brick Bodies! Let’s Ride!
URL:https://www.brickbodies.com/event/nsfw-ride-2/
CATEGORIES:Padonia
END:VEVENT
BEGIN:VEVENT
DTSTART;VALUE=DATE:20240422
DTEND;VALUE=DATE:20240423
DTSTAMP:20260421T095429
CREATED:20240402T141547Z
LAST-MODIFIED:20240402T141758Z
UID:156405-1713744000-1713830399@www.brickbodies.com
SUMMARY:Earth Day Celebration in Little Bricks
DESCRIPTION:Earth Day Celebration!\nMonday\, April 22nd | 8am-1pm & 4pm-8pm\nYou’re invited to a delightful Earth Day celebration where the wonders of our planet await. Join us for a day filled with celebrating our planet with activities\, games\, and plenty of earthly surprises!\n🌿 Nature-inspired Crafts: Get creative and help decorate Little Bricks with Earth Day themed crafts!\n🌍 Eco Treasure Hunt and Games: Explore the wonders of nature through our exciting scavenger hunt! From searching for hidden treasures to planting seeds and more\, there will be games for everyone to enjoy!\n🌈 Earth-inspired Decorations: Immerse yourself in a world of greenery\, flowers\, and creatures of the earth!\nDress Code: Let’s spread some environmental magic with our outfits! Think rainbows\, flowers or even dinosaurs!
URL:https://www.brickbodies.com/event/earth-day-celebration-in-little-bricks/
CATEGORIES:Padonia
END:VEVENT
BEGIN:VEVENT
DTSTART;TZID=America/New_York:20240420T073000
DTEND;TZID=America/New_York:20240420T090000
DTSTAMP:20260421T095429
CREATED:20240401T193819Z
LAST-MODIFIED:20240402T160230Z
UID:156400-1713598200-1713603600@www.brickbodies.com
SUMMARY:Indoor Triathlon at Padonia
DESCRIPTION:Looking for training motivation? Join us for the Brick Bodies Indoor Triathlon at Brick Bodies Padonia on April 20th! \nWAVES OF PARTCIPANTS: 7:30AM\, 8:00AM\, 8:30AM\, 9:00AM \nTHE DETAILS \n\nSwim 500 meters in our lap pool\nRide 10 miles on our Matrix bikes\nRun for 2 miles on our treadmills\n\nAll participants will receive an event t-shirt\, water bottle and swim cap! \nREGISTRATION INFORMATION \n\nRegistration: $35\n\nOnce you have filled out the form HERE\, you will be contacted via email to finalize your registration\, including payment directions. \n*Participants who register after 4/1 will not receive their t-shirt on the day of the triathlon and will be provided a code to redeem on their own. Minimum Participation Age:16. Please note that non-members must register in-person at the service desk (at any Brick Bodies location). \n 
URL:https://www.brickbodies.com/event/indoor-triathlon-at-padonia/
CATEGORIES:Padonia
END:VEVENT
BEGIN:VEVENT
DTSTART;VALUE=DATE:20240416
DTEND;VALUE=DATE:20240417
DTSTAMP:20260421T095429
CREATED:20240402T142122Z
LAST-MODIFIED:20240402T142122Z
UID:156406-1713225600-1713311999@www.brickbodies.com
SUMMARY:Drone Video Shoot
DESCRIPTION:On Tuesday\, April 16th we will be filming a drone video shoot throughout the Padonia location between approximately 8am and 7pm. \nOur team has carefully planned the shoot to ensure minimal interference with your workouts and classes. However\, as part of the filming process\, there is a possibility that you may appear in the video footage. Your presence and enthusiasm contribute to the vibrant atmosphere that makes Brick Bodies Baltimore’s Best Gym and we look forward to capturing that! \nIf you prefer not to be featured on camera\, we kindly ask that you consider scheduling your gym visit around the shoot or opting to not attend the gym on that particular day. We expect to be finished with all spaces between 6:30-7:30pm for members who wish to not be on camera. \nWe will also be flying through a couple classes for approximately 10-15 minutes: \n8:30am Barre | Balance Studio\n9:30am Power Ride | SHIFT Studio\n5:30pm BODYCOMBAT | Ignite Studio\n6:30pm Boxing Skills and Drills | Impact Studio\nStay tuned for further updates and details regarding the shoot. \nInterested in being featured? Come in for your regular workout! \nThank you for your understanding and support!
URL:https://www.brickbodies.com/event/drone-video-shoot/
CATEGORIES:Padonia
END:VEVENT
BEGIN:VEVENT
DTSTART;TZID=America/New_York:20240406T130000
DTEND;TZID=America/New_York:20240406T133000
DTSTAMP:20260421T095429
CREATED:20240402T141255Z
LAST-MODIFIED:20240402T141255Z
UID:156403-1712408400-1712410200@www.brickbodies.com
SUMMARY:Student Athlete Clinic
DESCRIPTION:Saturday\, April 6th | National Student Athlete Day\n1pm with Isaiah Jackson III | The Yard | FREE\nJoin us on April 6th to celebrate National Student Athlete Day! Experience training like a top-level athlete alongside one of our exceptional personal trainers. This athletic clinic emphasizes skill development in power\, agility\, and plyometrics. Isaiah will lead athletes as they rotate through various stations and obstacle courses tailored to enhance strength and cardiovascular endurance. \nActivities include box jumps\, agility ladder drills\, hurdles\, and slam ball exercises. Don’t miss out on the excitement as we dive into the spring sports training season together! Save your spot and register today!
URL:https://www.brickbodies.com/event/student-athlete-clinic/
CATEGORIES:Padonia
END:VEVENT
BEGIN:VEVENT
DTSTART;TZID=America/New_York:20240405T173000
DTEND;TZID=America/New_York:20240405T203000
DTSTAMP:20260421T095429
CREATED:20240402T141451Z
LAST-MODIFIED:20240402T141451Z
UID:156404-1712338200-1712349000@www.brickbodies.com
SUMMARY:Little Bricks Date Night
DESCRIPTION:Date Night is Back! \nFriday\, April 5th | 5:30 pm – 8:30 pm\n$20 for the First Child | $5 for Each Additional Child\nYou read that right! Date Night is BACK at Brick Bodies Padonia! \nPARENTS! Are you looking for a little time for yourself to get some errands done\, spend some adult time and make sure your kids have fun? Little Bricks has you covered! Join us for Brick Bodies Date Night\, Friday April 5th from 5:30pm-8:30pm drop of the kids for Pizza\, Goldfish\, Fairytale crafts and More! \nWe will be showing Shrek\, playing games\, fairytale activities\, crafts and more\, your kids are sure to have a blast! Registration is required\, walk-ins not available. \nVisit Little Bricks to learn more and register today!
URL:https://www.brickbodies.com/event/little-bricks-date-night/
CATEGORIES:Padonia
END:VEVENT
BEGIN:VEVENT
DTSTART;VALUE=DATE:20240331
DTEND;VALUE=DATE:20240401
DTSTAMP:20260421T095429
CREATED:20240228T225428Z
LAST-MODIFIED:20240228T225428Z
UID:156299-1711843200-1711929599@www.brickbodies.com
SUMMARY:Holiday Hours
DESCRIPTION:Easter Sunday\, March 31st \nPadonia \nClub: 5:45 am- 2pm\nLittle Bricks: Closed\nRecover: 8-1pm\nAquatics: 6am-1pm \nGroup Fitness schedules are modified for the Holidays. Please check the website or app schedule for available classes. \nhours vary by location
URL:https://www.brickbodies.com/event/holiday-hours/
CATEGORIES:Padonia
END:VEVENT
BEGIN:VEVENT
DTSTART;TZID=America/New_York:20240316T123000
DTEND;TZID=America/New_York:20240316T140000
DTSTAMP:20260421T095429
CREATED:20240228T225245Z
LAST-MODIFIED:20240228T225245Z
UID:156298-1710592200-1710597600@www.brickbodies.com
SUMMARY:Studio Crawl at Padonia
DESCRIPTION:Brick Bodies Padonia \nAre you curious about our studio classes but unsure where to start? Don’t worry\, we’ve got you covered! Join our instructors for a fun-filled Studio Crawl where you can sample 15-minute classes in each of our fantastic studio spaces\, including The Yard! \nCrawl Schedule: \n1-1:15pm Boxing with Joaquin Muriel | Impact Studio\n1:20-1:35pm Barre with Cheryl Muriel | Balance Studio\n1:40-1:55pm Strength Development with Elizabeth Graber | Ignite Studio\n2-2:05pm Truimph Fit with Isaiah Jackson III | The Yard\n2:20-2:35pm Power Ride with Heidi Rose | Shift\nThis is the perfect opportunity to dip your toes in without the commitment of a full class. Plus\, to kick off the crawl enjoy a pre-game wellness shot provided by Pure Raw Juice! \nSign up and experience a taste of the best of Brick Bodies group fitness classes! \nNot a multi-club member? Don’t worry\, you can sign up at your service desk\, call Brick Bodies Padonia at 410-252-5280\, or email sara.keller@brickbodies.com to be added to the crawl!
URL:https://www.brickbodies.com/event/studio-crawl-at-padonia/
CATEGORIES:Padonia,Reisterstown,Rotunda
END:VEVENT
BEGIN:VEVENT
DTSTART;TZID=America/New_York:20240224T160000
DTEND;TZID=America/New_York:20240224T170000
DTSTAMP:20260421T095429
CREATED:20240201T182333Z
LAST-MODIFIED:20240201T182333Z
UID:156142-1708790400-1708794000@www.brickbodies.com
SUMMARY:Family Flow Yoga
DESCRIPTION:WITH Kelly Phillips \nBring your family together with this beginner yoga class that’s just right for the little ones! \nTaught by Kelly Phillips\, a certified group exercise instructor with decades of experience. This fun class helps build connection\, balance and body awareness. Children in kindergarten and older are welcome. All children must be accompanied by an adult. All in attendance are asked to participate. \nJoin Kelly to help center your family and yourself\, to end the week on a relaxed note. Register  HERE
URL:https://www.brickbodies.com/event/family-flow-yoga-3/
CATEGORIES:Padonia
END:VEVENT
BEGIN:VEVENT
DTSTART;TZID=America/New_York:20240214T080000
DTEND;TZID=America/New_York:20240214T210000
DTSTAMP:20260421T095429
CREATED:20240129T220302Z
LAST-MODIFIED:20240129T220302Z
UID:156115-1707897600-1707944400@www.brickbodies.com
SUMMARY:Bring Your Bestie to Brick Bodies
DESCRIPTION:“Working out” is the new “going out”! Bring your bestie to Brick Bodies for FREE on February 13th or 14th. Your fitness routine can be positively influenced when you bring a friend! You will feel more motivated\, be more adventurous and become more consistent! So bring your Bestie to Brick Bodies and share the fun of your fitness routine! \nMembers are allowed to bring one guest per day. Guest can visit Brick Bodies for free on the 13th or 14th only. Other restrictions may apply.
URL:https://www.brickbodies.com/event/bring-your-bestie-to-brick-bodies/
CATEGORIES:Padonia,Reisterstown,Rotunda
END:VEVENT
BEGIN:VEVENT
DTSTART;TZID=America/New_York:20240213T080000
DTEND;TZID=America/New_York:20240213T210000
DTSTAMP:20260421T095429
CREATED:20240129T220157Z
LAST-MODIFIED:20240129T220157Z
UID:156114-1707811200-1707858000@www.brickbodies.com
SUMMARY:Galentines Guest Pass
DESCRIPTION:“Working out” is the new “going out”! Bring your bestie to Brick Bodies for FREE on February 13th or 14th. Your fitness routine can be positively influenced when you bring a friend! You will feel more motivated\, be more adventurous and become more consistent! So bring your Bestie to Brick Bodies and share the fun of your fitness routine! \nMembers are allowed to bring one guest per day. Guest can visit Brick Bodies for free on the 13th or 14th only. Other restrictions may apply.
URL:https://www.brickbodies.com/event/galentines-guest-pass/
CATEGORIES:Padonia,Reisterstown,Rotunda
END:VEVENT
BEGIN:VEVENT
DTSTART;VALUE=DATE:20240123
DTEND;VALUE=DATE:20240124
DTSTAMP:20260421T095429
CREATED:20240103T204106Z
LAST-MODIFIED:20240103T204106Z
UID:156019-1705968000-1706054399@www.brickbodies.com
SUMMARY:BE YOUR OWN HERO Superhero Open House
DESCRIPTION:On Tuesday\, January 23rd join us for an action-packed day with superhero themed challenges\, specialty group exercise classes as well as your favorite vendors\, local eats and more! \nGuests Welcome\, costumes encouraged- capes optional!
URL:https://www.brickbodies.com/event/be-your-own-hero-superhero-open-house/
CATEGORIES:Padonia,Reisterstown,Rotunda
END:VEVENT
BEGIN:VEVENT
DTSTART;TZID=America/New_York:20240110T173000
DTEND;TZID=America/New_York:20240117T183000
DTSTAMP:20260421T095429
CREATED:20240103T203232Z
LAST-MODIFIED:20240103T203328Z
UID:156016-1704907800-1705516200@www.brickbodies.com
SUMMARY:Beginner Biking Series
DESCRIPTION:Every Wednesday in January join Stephanie Chall whether you’re new to cycling or looking to hone your skills\, this series is tailored to introduce you to becoming an expert on the bike. \nEach class blends a perfect fusion of guidance\, motivation\, and fun. You’ll learn proper bike setup\, cycling techniques\, and gradually build stamina and strength. Join us for an energizing experience where you’ll pedal through each session\, leaving empowered and ready to conquer your fitness goals. \nSweat\, smile\, and cycle your way to a healthier you in this engaging and supportive series designed for beginners.
URL:https://www.brickbodies.com/event/beginner-biking-series-2/
CATEGORIES:Padonia
END:VEVENT
BEGIN:VEVENT
DTSTART;TZID=America/New_York:20240103T173000
DTEND;TZID=America/New_York:20240103T183000
DTSTAMP:20260421T095429
CREATED:20240103T203110Z
LAST-MODIFIED:20240103T203110Z
UID:156015-1704303000-1704306600@www.brickbodies.com
SUMMARY:Beginner Biking Series
DESCRIPTION:Every Wednesday in January join Stephanie Chall whether you’re new to cycling or looking to hone your skills\, this series is tailored to introduce you to becoming an expert on the bike. \nEach class blends a perfect fusion of guidance\, motivation\, and fun. You’ll learn proper bike setup\, cycling techniques\, and gradually build stamina and strength. Join us for an energizing experience where you’ll pedal through each session\, leaving empowered and ready to conquer your fitness goals. \nSweat\, smile\, and cycle your way to a healthier you in this engaging and supportive series designed for beginners.
URL:https://www.brickbodies.com/event/beginner-biking-series/
CATEGORIES:Padonia
END:VEVENT
BEGIN:VEVENT
DTSTART;TZID=America/New_York:20231222T090000
DTEND;TZID=America/New_York:20231222T100000
DTSTAMP:20260421T095429
CREATED:20231130T185611Z
LAST-MODIFIED:20231130T185611Z
UID:154828-1703235600-1703239200@www.brickbodies.com
SUMMARY:Core Sculpt: Free Training Class
DESCRIPTION:Build core muscle groups while improving posture through performing a variety of exercises that strengthen the abdominal muscles. \nGet ready to challenge yourself and learn how to strengthen the muscles that stabilize your back\, hips\, and shoulders with a variety of equipment during this targeted workout. \nWith Personal Trainer Michael Caddick. \nMember Registration
URL:https://www.brickbodies.com/event/core-sculpt-free-training-class/
CATEGORIES:Padonia
END:VEVENT
BEGIN:VEVENT
DTSTART;TZID=America/New_York:20231220T183000
DTEND;TZID=America/New_York:20231220T193000
DTSTAMP:20260421T095429
CREATED:20231130T190403Z
LAST-MODIFIED:20231130T190403Z
UID:154831-1703097000-1703100600@www.brickbodies.com
SUMMARY:Ugly Sweater Slow Flow Mobility Yoga Class
DESCRIPTION:Looking for more depth in your squat? Feeling a pinch in your shoulders? Don’t let mobility issues decrease your strength and power output. \nBuild strength and increase your range of motion through intentional poses aimed at stretching and opening connective tissue like ligaments\, tendons\, and facia. This mix of movements also aids in muscle recovery and promotes relaxation. No yoga experience required- ugly sweaters encouraged! \nLed by Kraig Leatherman. Love this class? Join Kraig every Wednesday at 6:30pm for Mobility Yoga! \nRegister today to save your spot! \nMember Registration
URL:https://www.brickbodies.com/event/ugly-sweater-slow-flow-mobility-yoga-class/
CATEGORIES:Padonia
END:VEVENT
BEGIN:VEVENT
DTSTART;TZID=America/New_York:20231214T083000
DTEND;TZID=America/New_York:20231214T093000
DTSTAMP:20260421T095429
CREATED:20231130T190042Z
LAST-MODIFIED:20231130T190042Z
UID:154830-1702542600-1702546200@www.brickbodies.com
SUMMARY:FREE Inferno Training Class
DESCRIPTION:Try this class FREE! This interval intensity training features circuit-style exercises combined with plyometrics\, strength\, core\, and cardio moves to increase your calorie burn and rev up your metabolism to turn your body into a raging Inferno. \nLed by Personal Trainer Christopher Simmons. Classes on December 12th and 14th are free\, normally $15 per class with package options available. \nRegistration Required. Members can register up to three days in advance through the app or the website. \nMember Registration
URL:https://www.brickbodies.com/event/free-inferno-training-class-2/
CATEGORIES:Padonia
END:VEVENT
BEGIN:VEVENT
DTSTART;TZID=America/New_York:20231212T083000
DTEND;TZID=America/New_York:20231212T093000
DTSTAMP:20260421T095429
CREATED:20231130T190002Z
LAST-MODIFIED:20231130T190002Z
UID:154829-1702369800-1702373400@www.brickbodies.com
SUMMARY:FREE Inferno Training Class
DESCRIPTION:Try this class FREE! This interval intensity training features circuit-style exercises combined with plyometrics\, strength\, core\, and cardio moves to increase your calorie burn and rev up your metabolism to turn your body into a raging Inferno. \nLed by Personal Trainer Christopher Simmons. Classes on December 12th and 14th are free\, normally $15 per class with package options available. \nRegistration Required. Members can register up to three days in advance through the app or the website. \nMember Registration
URL:https://www.brickbodies.com/event/free-inferno-training-class/
CATEGORIES:Padonia
END:VEVENT
BEGIN:VEVENT
DTSTART;TZID=America/New_York:20231209T090000
DTEND;TZID=America/New_York:20231209T100000
DTSTAMP:20260421T095429
CREATED:20231130T185350Z
LAST-MODIFIED:20231130T185350Z
UID:154827-1702112400-1702116000@www.brickbodies.com
SUMMARY:FREE TriumpFit HIIT Training Class
DESCRIPTION:Join Personal Trainer Isaiah Jackson for our new TriumpFit HIIT Training class\, and try it out for free! \nStarting a fitness journey or looking to mix up your routine? Our TriumpFIT HIIT Training is your perfect place to start. \nDiscover a variety of training techniques in a supportive and inclusive environment. This HIIT style workout will incorporate functional equipment to include medicine balls\, kettlebells\, resistance bands\, sandbags\, and much more! The trainer will guide the class through timed intervals and stations. Come check out this small group circuit-based class crafted to each participants individual needs. All fitness levels are welcome! \nFeel the camaraderie\, witness your own growth\, and enjoy every moment of it. It is not just about building muscles\, but also building memories. \nFree classes are available December 5th and December 9th\, after that each class will be $15. Package options are available. \nMember Registration
URL:https://www.brickbodies.com/event/free-triumpfit-hiit-training-class-2/
CATEGORIES:Padonia
END:VEVENT
BEGIN:VEVENT
DTSTART;TZID=America/New_York:20231205T070000
DTEND;TZID=America/New_York:20231205T080000
DTSTAMP:20260421T095429
CREATED:20231130T185258Z
LAST-MODIFIED:20231130T185258Z
UID:154826-1701759600-1701763200@www.brickbodies.com
SUMMARY:FREE TriumpFit HIIT Training Class
DESCRIPTION:Join Personal Trainer Isaiah Jackson for our new TriumpFit HIIT Training class\, and try it out for free! \nStarting a fitness journey or looking to mix up your routine? Our TriumpFIT HIIT Training is your perfect place to start. \nDiscover a variety of training techniques in a supportive and inclusive environment. This HIIT style workout will incorporate functional equipment to include medicine balls\, kettlebells\, resistance bands\, sandbags\, and much more! The trainer will guide the class through timed intervals and stations. Come check out this small group circuit-based class crafted to each participants individual needs. All fitness levels are welcome! \nFeel the camaraderie\, witness your own growth\, and enjoy every moment of it. It is not just about building muscles\, but also building memories. \nFree classes are available December 5th and December 9th\, after that each class will be $15. Package options are available. \nMember Registration
URL:https://www.brickbodies.com/event/free-triumpfit-hiit-training-class/
CATEGORIES:Padonia
END:VEVENT
BEGIN:VEVENT
DTSTART;TZID=America/New_York:20231201T173000
DTEND;TZID=America/New_York:20231201T183000
DTSTAMP:20260421T095429
CREATED:20231120T173106Z
LAST-MODIFIED:20231120T173155Z
UID:154804-1701451800-1701455400@www.brickbodies.com
SUMMARY:NSFW Ride
DESCRIPTION:Not Suited for the Workplace! After a long work week and the Hustle and bustle of the holiday season\, join Elizabeth Graber for a cycling class like no other! The NSFW Ride will feature your favorite hit music- UNCENSORED! \nShake off the Holiday stress and pedal away the long work week! \nFollowed by a social Happy Hour at Mother’s Grille (not sponsored by Brick Bodies). \nPadonia Group Fitness Schedule
URL:https://www.brickbodies.com/event/nsfw-ride/
CATEGORIES:Padonia
END:VEVENT
BEGIN:VEVENT
DTSTART;VALUE=DATE:20231123
DTEND;VALUE=DATE:20231124
DTSTAMP:20260421T095429
CREATED:20231120T170633Z
LAST-MODIFIED:20231120T171653Z
UID:154800-1700697600-1700783999@www.brickbodies.com
SUMMARY:Padonia Thanksgiving Holiday Hours
DESCRIPTION:Brick Bodies Padonia Thanksgiving Holiday Hours \nClub: 6am-2pm\nAquatics: 6am-1pm\nLittle Bricks: 8am-1pm\nRecover: 8am-1pm\nPure Raw Juice: 7-2pm \nGroup Fitness \nGroup Fitness schedules are modified for Thanksgiving. Please check the website or app schedule for available classes. \nPlease note: On Black Friday classes will begin at 8:30am with the exception of BODYPUMP at Padonia which will begin at 7am. \nPadonia Group Fitness Schedule
URL:https://www.brickbodies.com/event/thanksgiving-holiday-hours/
CATEGORIES:Padonia
END:VEVENT
BEGIN:VEVENT
DTSTART;TZID=America/New_York:20231111T160000
DTEND;TZID=America/New_York:20231111T170000
DTSTAMP:20260421T095429
CREATED:20231030T001313Z
LAST-MODIFIED:20231030T001313Z
UID:154764-1699718400-1699722000@www.brickbodies.com
SUMMARY:Family Flow Yoga!
DESCRIPTION:Bring your family together with this beginner yoga class that’s just right for the little ones! \nTaught by Kelly Phillips\, a certified group exercise with decades of experience. This fun class helps build connection\, balance and body awareness. All abilities welcome! Registration required.
URL:https://www.brickbodies.com/event/family-flow-yoga/
CATEGORIES:Padonia
END:VEVENT
END:VCALENDAR