BEGIN:VCALENDAR
VERSION:2.0
PRODID:-//Brick Bodies - ECPv6.6.4.2//NONSGML v1.0//EN
CALSCALE:GREGORIAN
METHOD:PUBLISH
X-ORIGINAL-URL:https://www.brickbodies.com
X-WR-CALDESC:Events for Brick Bodies
REFRESH-INTERVAL;VALUE=DURATION:PT1H
X-Robots-Tag:noindex
X-PUBLISHED-TTL:PT1H
BEGIN:VTIMEZONE
TZID:America/New_York
BEGIN:DAYLIGHT
TZOFFSETFROM:-0500
TZOFFSETTO:-0400
TZNAME:EDT
DTSTART:20220313T070000
END:DAYLIGHT
BEGIN:STANDARD
TZOFFSETFROM:-0400
TZOFFSETTO:-0500
TZNAME:EST
DTSTART:20221106T060000
END:STANDARD
BEGIN:DAYLIGHT
TZOFFSETFROM:-0500
TZOFFSETTO:-0400
TZNAME:EDT
DTSTART:20230312T070000
END:DAYLIGHT
BEGIN:STANDARD
TZOFFSETFROM:-0400
TZOFFSETTO:-0500
TZNAME:EST
DTSTART:20231105T060000
END:STANDARD
END:VTIMEZONE
BEGIN:VEVENT
DTSTART;TZID=America/New_York:20230930T110000
DTEND;TZID=America/New_York:20230930T120000
DTSTAMP:20260421T124857
CREATED:20230831T185350Z
LAST-MODIFIED:20230831T185350Z
UID:153518-1696071600-1696075200@www.brickbodies.com
SUMMARY:Cycle for a Cause | Benefitting the Living Classrooms Foundation
DESCRIPTION:Donate To Secure Your Spot in Class | Suggested Donation $20\n\n \n\nJoin Kiera for a Power Ride with some serious power to benefit the Baltimore community.\n\n \n\nThe Living Classrooms Foundation is a nonprofit that disrupts the cycle of poverty and makes our community safer\, stronger\, and healthier. It inspires children\, youth\, and adults to achieve their potential through hands-on education\, workforce development\, health and wellness\, and violence prevention programming.\n\n \n\nRegister for class HERE.\nDonate to secure your space HERE.
URL:https://www.brickbodies.com/event/cycle-for-a-cause-benefitting-the-living-classrooms-foundation/
CATEGORIES:Padonia
END:VEVENT
BEGIN:VEVENT
DTSTART;TZID=America/New_York:20230917T100000
DTEND;TZID=America/New_York:20230917T120000
DTSTAMP:20260421T124857
CREATED:20230831T190028Z
LAST-MODIFIED:20230831T190028Z
UID:153519-1694944800-1694952000@www.brickbodies.com
SUMMARY:Free Box and Bike Limited Class Series
DESCRIPTION:Join Amateur Boxer Megan Carpenter for this exciting new limited series! \nTake your boxing game to the next level with a 25 minute legit boxing workout designed to improve your skills\, followed by a 25 minute cycle workout designed to improve your conditioning. The perfect cross training combo to spice up your routine. \nDon’t forget your boxing gloves! \nMember Registration
URL:https://www.brickbodies.com/event/free-box-and-bike-limited-class-series/
CATEGORIES:Padonia
END:VEVENT
BEGIN:VEVENT
DTSTART;TZID=America/New_York:20230915T090000
DTEND;TZID=America/New_York:20230915T100000
DTSTAMP:20260421T124857
CREATED:20230829T182958Z
LAST-MODIFIED:20230829T184910Z
UID:153511-1694768400-1694772000@www.brickbodies.com
SUMMARY:Beginners Strength And Core
DESCRIPTION:Break a sweat in Dagi’s Beginner Strength & Core class! This is a low-impact\, beginner friendly\, full-body workout that combines cardio and body weight exercises. Additionally\, bands and light weights will be utilized for added resistance. This class is great for those new to strength and resistance training as it provides personal attention to form\, programming and practice. Beginner’s Strength & Core will help you build strength\, increase your flexibility\, and improve your balance. Come join us in The Yard! \n  \nMember Registration
URL:https://www.brickbodies.com/event/beginners-strength-and-core/
CATEGORIES:Padonia
END:VEVENT
BEGIN:VEVENT
DTSTART;TZID=America/New_York:20230910T160000
DTEND;TZID=America/New_York:20230910T170000
DTSTAMP:20260421T124857
CREATED:20230831T201700Z
LAST-MODIFIED:20230831T201700Z
UID:153523-1694361600-1694365200@www.brickbodies.com
SUMMARY:Restorative Yoga Class for Ovarian Cancer Awareness
DESCRIPTION:Find your flow and raise your awareness with Sandra. \nAccording to the American Cancer Society approximately 1 in 78 women will be diagnosed with ovarian cancer in their lifetime. \nIn honor of Ovarian Cancer Awareness Month\, Sandra is leading Restorative Yoga! Restorative yoga focuses on relaxing the body in slower\, restful postures\, allowing the body to renew and heal. \nYou can use the link below to donate directly to the Ovarian Cancer Research Alliance\, all optional donations will benefit ovarian cancer research and prevention. \nMember Registration \nDonate Directly to the Ovarian Cancer Research Alliance HERE.
URL:https://www.brickbodies.com/event/restorative-yoga-class-for-ovarian-cancer-awareness/
CATEGORIES:Padonia
END:VEVENT
BEGIN:VEVENT
DTSTART;TZID=America/New_York:20230525T191500
DTEND;TZID=America/New_York:20230525T201500
DTSTAMP:20260421T124857
CREATED:20230428T211425Z
LAST-MODIFIED:20230428T211425Z
UID:148417-1685042100-1685045700@www.brickbodies.com
SUMMARY:Free Dance Workshops
DESCRIPTION:Let’s Dance! In each free individually themed workshop\, you’ll learn in-depth choreography for a short routine just like you would in a boutique dance studio. \nIn May’s workshop you’ll pop\, lock\, and drop it with hip hop inspired movements that follow the beat. Then follow the lead of the rising temperatures in June and heat things up with Latin inspired moves. \nWith Katie Fox | Free \nMembers can register through the app or the website.
URL:https://www.brickbodies.com/event/free-dance-workshops/2023-05-25/
CATEGORIES:Padonia
END:VEVENT
BEGIN:VEVENT
DTSTART;TZID=America/New_York:20230422T073000
DTEND;TZID=America/New_York:20230422T120000
DTSTAMP:20260421T124857
CREATED:20230223T160835Z
LAST-MODIFIED:20230223T160835Z
UID:121285-1682148600-1682164800@www.brickbodies.com
SUMMARY:Brick Bodies Indoor Triathlon at Padonia
DESCRIPTION:Members and Non-Members from all locations are welcome! \nSwim 500 Meters | Ride 10 Miles | Run 2 Miles \nLocation: Brick Bodies Padonia\nApril 22nd | Waves of Participants: 7:30am\, 8am\, 8:30am\, 9am \nLooking for some training motivation? Join us for Brick Bodies Indoor Triathlon at Brick Bodies Padonia on April 22nd. Swim 500 yards in our lap pool\, ride 10 miles on our Matrix bikes and finish with a 2 mile run on our treadmills. \nAll participants receive an event t-shirt and water bottle. Fill out the form HERE to register! \nEarly Bird Registration: $35 Until 4/1 | Regular Registration: $40 \nHave questions? Email Sara.Keller@BrickBodies.com \n*Register by 4/1 to get your shirt on race day. Minimum Participation Age:16
URL:https://www.brickbodies.com/event/brick-bodies-indoor-triathlon-at-padonia/
CATEGORIES:Padonia,Reisterstown,Rotunda
END:VEVENT
BEGIN:VEVENT
DTSTART;TZID=America/New_York:20230323T191500
DTEND;TZID=America/New_York:20230323T201500
DTSTAMP:20260421T124857
CREATED:20230222T193649Z
LAST-MODIFIED:20230222T193649Z
UID:121277-1679598900-1679602500@www.brickbodies.com
SUMMARY:Free Dance Workshops- Pop and Lyrical
DESCRIPTION:Let’s Dance! In each free individually themed workshop\, you’ll learn in-depth choreography for a short routine just like you would in a boutique dance studio. \nIf you ever dreamed of being a backup dancer for pop icons like Britney Spears or Lady Gaga\, this is the class for you. Join Katie Fox in March’s Pop Dance Workshop for high-energy fun that will make you feel like a star! \nKeep an eye out for a change of pace in April’s workshop featuring Modern/Lyrical dance where you’ll be inspired to reflect and dance with feeling. Focus on long body lines and soft flowing movements. \nMembers can register 3 days in advance using the app or through the website (link below). \nMember Registration
URL:https://www.brickbodies.com/event/free-dance-workshops-pop-and-lyrical/2023-03-23/
CATEGORIES:Padonia
END:VEVENT
BEGIN:VEVENT
DTSTART;TZID=America/New_York:20230305T144500
DTEND;TZID=America/New_York:20230305T154500
DTSTAMP:20260421T124857
CREATED:20230222T193349Z
LAST-MODIFIED:20230222T193349Z
UID:121275-1678027500-1678031100@www.brickbodies.com
SUMMARY:Nia with Katie Fox- Group Fitness Class
DESCRIPTION:By popular demand\, we’ve add two more Nia classes with Katie Fox to the schedule for March and April! \nNia is more than just a workout—it fills a void where other traditional fitness programs fall short. A powerful fusion of dance\, martial arts\, and mindfulness practices\, Nia is a holistic movement and wellness practice that addresses each aspect of your life—body\, mind\, and soul. \nFree to members. Limited mats are available\, so please consider bringing your own. \nMembers can register 3 days in advance through the app or website (linked below). Class will take place in the Balance Studio \nMember Registration
URL:https://www.brickbodies.com/event/nia-with-katie-fox-group-fitness-class/2023-03-05/
CATEGORIES:Padonia
END:VEVENT
BEGIN:VEVENT
DTSTART;TZID=America/New_York:20230305T113000
DTEND;TZID=America/New_York:20230305T133000
DTSTAMP:20260421T124857
CREATED:20230222T192938Z
LAST-MODIFIED:20230222T192938Z
UID:121274-1678015800-1678023000@www.brickbodies.com
SUMMARY:Group Fitness Instructor Auditions
DESCRIPTION:Do you\, or someone you know\, have a passion for group fitness? Now is the time to share your spark! \nJoin us at our Padonia location for our upcoming Group Fitness Instructor Auditions. We are currently hiring for all locations. \nUse the link below to fill out the form and reserve your audition space! \nAuditions will be held in the IGNITE Studio. \nReserve My Space
URL:https://www.brickbodies.com/event/group-fitness-instructor-auditions-2/
CATEGORIES:Padonia
END:VEVENT
BEGIN:VEVENT
DTSTART;TZID=America/New_York:20230209T191500
DTEND;TZID=America/New_York:20230209T201500
DTSTAMP:20260421T124857
CREATED:20221229T193345Z
LAST-MODIFIED:20221229T193345Z
UID:115339-1675970100-1675973700@www.brickbodies.com
SUMMARY:Free Dance Workshop: Jazz
DESCRIPTION:With Katie Fox- Back by Popular Demand! | BALANCE Studio \nHave you dreamed of dancing with the stars? In each individually themed workshop\, you’ll learn in-depth choreography for a short routine just like you would in a boutique dance studio. \nDon’t forget to bring your jazz hands as you embrace your inner Bob Fosse in our Jazz workshop. \nMember Registration
URL:https://www.brickbodies.com/event/free-dance-workshop-jazz/
CATEGORIES:Padonia
END:VEVENT
BEGIN:VEVENT
DTSTART;TZID=America/New_York:20230204T103000
DTEND;TZID=America/New_York:20230204T114500
DTSTAMP:20260421T124857
CREATED:20230130T172208Z
LAST-MODIFIED:20230130T172208Z
UID:118581-1675506600-1675511100@www.brickbodies.com
SUMMARY:BOGABalance Limited Series is Back!
DESCRIPTION:Test Your Balance in Our BOGABalance Series \nThrough a series of carefully chosen poses\, you’ll improve your balance\, strength\, and flexibility while floating on water. This is the ultimate stability workout! \nClass size is limited. Registration is required and opens three days in advance. \nOffering both our BOGABalance Beginners (Padonia only) and Full Sessions. \nBOGABalance Beginners: 10:30-11am \nBOGABalance Full Session: 11-11:45am \nFull Dates List: \n\n2/4 with Courtney\n2/19 with Maribeth\n3/4 with Courtney\n3/19 with Maribeth\n4/1 with Courtney\n4/15 with Maribeth\n4/29 with Kelly P.\n\nMember Registration
URL:https://www.brickbodies.com/event/bogabalance-limited-series-is-back/2023-02-04/
CATEGORIES:Padonia
END:VEVENT
BEGIN:VEVENT
DTSTART;TZID=America/New_York:20230122T150000
DTEND;TZID=America/New_York:20230122T160000
DTSTAMP:20260421T124857
CREATED:20221229T193604Z
LAST-MODIFIED:20221229T193650Z
UID:115340-1674399600-1674403200@www.brickbodies.com
SUMMARY:New Group Fitness Class: Nia
DESCRIPTION:With Katie Fox | BALANCE Studio \nNia is more than just a workout\, it fills a void where other traditional fitness programs fall short. A powerful fusion of dance\, martial arts\, and mindfulness practices\, Nia is a holistic movement and wellness practice that addresses each aspect of your life – body\, mind\, and soul. \nFree to members. Limited mats are available\, please consider bringing your own. \nMember Registration
URL:https://www.brickbodies.com/event/new-group-fitness-class-nia-2/2023-01-22/
CATEGORIES:Padonia
END:VEVENT
BEGIN:VEVENT
DTSTART;TZID=America/New_York:20230120T060000
DTEND;TZID=America/New_York:20230120T064500
DTSTAMP:20260421T124857
CREATED:20221229T192759Z
LAST-MODIFIED:20221229T192759Z
UID:115332-1674194400-1674197100@www.brickbodies.com
SUMMARY:New Year\, Stronger You: Cycle Performance Series
DESCRIPTION:Free 6-Week Performance Ride Series with Sara Keller \nIn the first week you’ll test your Functional Threshold Power (FTP) and then work with individualized coaching each class to learn how to become a stronger more efficient rider. The goal is to work your way up the leaderboard! \nRetest your FTP in the final week to see how your hard work paid off. \nMember Registration
URL:https://www.brickbodies.com/event/new-year-stronger-you-cycle-performance-series/2023-01-20/
CATEGORIES:Padonia
END:VEVENT
BEGIN:VEVENT
DTSTART;TZID=America/New_York:20230119T191500
DTEND;TZID=America/New_York:20230119T201500
DTSTAMP:20260421T124857
CREATED:20221229T193230Z
LAST-MODIFIED:20221229T193230Z
UID:115338-1674155700-1674159300@www.brickbodies.com
SUMMARY:Free Dance Workshop: AfroSalsa
DESCRIPTION:With Katie Fox- Back by Popular Demand! | BALANCE Studio \nHave you dreamed of dancing with the stars? In each individually themed workshop\, you’ll learn in-depth choreography for a short routine just like you would in a boutique dance studio. \nMove your hips to globally inspired beats in January’s workshop featuring AfroSalsa. Then\, in February\, don’t forget to bring your jazz hands as you embrace your inner Bob Fosse in our Jazz workshop. \nFebruary Date: 2/9/2023 \nMember Registration
URL:https://www.brickbodies.com/event/free-dance-workshop-afrosalsa/
CATEGORIES:Padonia
END:VEVENT
BEGIN:VEVENT
DTSTART;TZID=America/New_York:20221211T143000
DTEND;TZID=America/New_York:20221211T153000
DTSTAMP:20260421T124857
CREATED:20221201T160951Z
LAST-MODIFIED:20221201T160951Z
UID:112020-1670769000-1670772600@www.brickbodies.com
SUMMARY:New Group Fitness Class: Nia
DESCRIPTION:With Katie Fox | Mind Body Studio \nNia is more than just a workout\, it fills a void where other traditional fitness programs fall short. A powerful fusion of dance\, martial arts\, and mindfulness practices\, Nia is a holistic movement and wellness practice that addresses each aspect of your life – body\, mind\, and soul. \nFree to members. Limited mats are available\, please consider bringing your own. \n  \nMember Registration
URL:https://www.brickbodies.com/event/new-group-fitness-class-nia/
CATEGORIES:Padonia
END:VEVENT
BEGIN:VEVENT
DTSTART;VALUE=DATE:20221201
DTEND;VALUE=DATE:20230101
DTSTAMP:20260421T124857
CREATED:20221201T160416Z
LAST-MODIFIED:20221201T160757Z
UID:112019-1669852800-1672531199@www.brickbodies.com
SUMMARY:12 Days of Fitness Group Fitness Challenge
DESCRIPTION:Put some extra jingle in your step this December when you complete our 12 Days of Fitness Challenge and claim your limited edition Brick Bodies holiday t-shirt! \nKeep active and ease the stress of the holiday rush. Choose your favorite classes on repeat or try some new ones- and have fun doing it! \nThe Rules: \n\nComplete 12 Group Fitness classes on 12 different days in December (two classes on the same day only counts as 1).\nYou must be checked in for the class to earn credit\, you can do this through the app or at the service desk.\n\nFine print: If you successfully complete the challenge\, you will receive an email the first week of January to claim your T-Shirt! \nView Class Schedules
URL:https://www.brickbodies.com/event/12-days-of-fitness-group-fitness-challenge/
CATEGORIES:Padonia,Reisterstown,Rotunda
END:VEVENT
BEGIN:VEVENT
DTSTART;TZID=America/New_York:20221124T060000
DTEND;TZID=America/New_York:20221124T140000
DTSTAMP:20260421T124857
CREATED:20221121T194648Z
LAST-MODIFIED:20221121T194648Z
UID:111160-1669269600-1669298400@www.brickbodies.com
SUMMARY:Padonia Thanksgiving Holiday Hours
DESCRIPTION:Club: 6am-2pm \nAquatics: 6am-1pm \nGroup Fitness schedules are modified for Thanksgiving. Please check the website or app schedule for available classes. \nPlease note: All 6am and 7am classes will be cancelled on Black Friday\, November 25th\, at all locations. \nPadonia Group Fitness Schedule
URL:https://www.brickbodies.com/event/padonia-thanksgiving-holiday-hours/
CATEGORIES:Padonia
END:VEVENT
BEGIN:VEVENT
DTSTART;TZID=America/New_York:20221105T173000
DTEND;TZID=America/New_York:20221105T183000
DTSTAMP:20260421T124857
CREATED:20221031T150141Z
LAST-MODIFIED:20221031T150141Z
UID:108636-1667669400-1667673000@www.brickbodies.com
SUMMARY:Free Family Zumba Dance Party!
DESCRIPTION:With Carin Clingan | IGNITE Studio \nTurn up the family fun with a Zumba Dance Party! \nTaught by Carin Clingan\, a certified group exercise instructor who knows how to pump up the energy\, this fun class will be a great way to get active and bust a move with the ones you love . No experience needed! \nChildren first grade and up are welcome. All children must be accompanied by an adult. All in attendance are asked to participate. \nMember Registration
URL:https://www.brickbodies.com/event/free-family-zumba-dance-party/
CATEGORIES:Padonia
END:VEVENT
BEGIN:VEVENT
DTSTART;TZID=America/New_York:20221026T180000
DTEND;TZID=America/New_York:20221026T190000
DTSTAMP:20260421T124857
CREATED:20220930T173431Z
LAST-MODIFIED:20220930T173431Z
UID:105323-1666807200-1666810800@www.brickbodies.com
SUMMARY:Free Team Training Class- Day of the Deadlift
DESCRIPTION:Celebrating Brick Bodies strongest with a deadlift party! Join our resident powerlifting coach Kristin Landi for treats\, prizes and some big lifts. Everyone is welcome\, NO experience necessary\, costumes optional! \nClass will be located in The Yard. \nRegistration is required. You are able to register for classes three days in advance. \nMember Registration
URL:https://www.brickbodies.com/event/free-team-training-class-day-of-the-deadlift/
CATEGORIES:Padonia
END:VEVENT
BEGIN:VEVENT
DTSTART;TZID=America/New_York:20221022T140000
DTEND;TZID=America/New_York:20221022T160000
DTSTAMP:20260421T124857
CREATED:20220930T175701Z
LAST-MODIFIED:20220930T175701Z
UID:105340-1666447200-1666454400@www.brickbodies.com
SUMMARY:Yoga Workshop Series: Moving Toward Balance
DESCRIPTION:Over the next few months Dagmar Bohlmann will lead your through our new Yoga Workshop Series\, Moving Toward Balance\, to help you deepen your yoga practice and explore how it can balance your life. \nJoin us for one\, or all three\, individually themed\, 2-hour workshops which include breath awareness\, anatomy lessons\, personal practice and meditation. \nFirst Workshop \nFacing the Unknown: Inversions 101 \nStanding on our hands (or heads) brings a child-like joy and exhilaration to our practice and clears our mental clutter. By consciously choosing unfamiliar yoga poses\, we learn to stay relaxed in the face of the unknown. Let’s playfully explore handstand variations\, take incremental steps toward shoulderstand\, and learn how to do a supported headstand. \nPrerequisite: regular yoga practice and no neck or shoulder injuries. \nUpcoming Workshops: \n\nOpening into Gratitude: Back Bends | November 19\, 2022\nListening Inward: Forward Folds | December 17\, 2022\n\nMember Registration
URL:https://www.brickbodies.com/event/yoga-workshop-series-moving-toward-balance/
CATEGORIES:Padonia
END:VEVENT
BEGIN:VEVENT
DTSTART;TZID=America/New_York:20221015T123000
DTEND;TZID=America/New_York:20221015T131500
DTSTAMP:20260421T124857
CREATED:20220930T180644Z
LAST-MODIFIED:20220930T180644Z
UID:105436-1665837000-1665839700@www.brickbodies.com
SUMMARY:SoulBody Restore Specialty Class
DESCRIPTION:Join Sara Keller for SoulBody Restore! \nSoulBody Restore gently warms the body through unique yoga flows\, creates mobility through dynamic stretching and uses restorative techniques to release fascial tension in the body. \nMember Registration \n 
URL:https://www.brickbodies.com/event/soulbody-restore-specialty-class/
CATEGORIES:Padonia
END:VEVENT
BEGIN:VEVENT
DTSTART;TZID=America/New_York:20221014T180000
DTEND;TZID=America/New_York:20221014T190000
DTSTAMP:20260421T124857
CREATED:20220930T173828Z
LAST-MODIFIED:20220930T173828Z
UID:105324-1665770400-1665774000@www.brickbodies.com
SUMMARY:TURN UP in Pink Dance Party
DESCRIPTION:In honor of Breast Cancer Awareness Month\, Nina is leading TURN UP in Pink! \nThis all out dance party features the TURN UP Dance Fitness moves you love\, with 100% of all optional donations benefitting a local charity\, The Red Devils\, who help fund support services that improve the quality of life for breast cancer patients and their families. \nLocated in the IGNITE Studio. \nMember Registration \nGuest Registration \nDonate to The Red Devils
URL:https://www.brickbodies.com/event/turn-up-in-pink-dance-party/
CATEGORIES:Padonia
END:VEVENT
BEGIN:VEVENT
DTSTART;TZID=America/New_York:20221008T103000
DTEND;TZID=America/New_York:20221008T114500
DTSTAMP:20260421T124857
CREATED:20220930T180344Z
LAST-MODIFIED:20220930T180344Z
UID:105430-1665225000-1665229500@www.brickbodies.com
SUMMARY:BOGA is Back! Limited BOGABalance Series
DESCRIPTION:Find your center during our BOGABalance series! \nThrough a series of carefully chosen poses you’ll improve your balance\, strength\, and flexibility while floating on top of the water. This is the ultimate stability workout! \nClass size is limited. Registration is required and available three days in advance. \nNow introducing Beginner BOGA! Please note that all dates are the same\, only the class times vary between the Beginner and full BOGABalance classes. Beginner BOGA is only available at the Padonia location. \nBeginner BOGA from 10:30am-11am \nBOGABalance from 11am-11:45am \nMember Registration \n 
URL:https://www.brickbodies.com/event/boga-is-back-limited-bogabalance-series/2022-10-08/
CATEGORIES:Padonia
END:VEVENT
BEGIN:VEVENT
DTSTART;TZID=America/New_York:20221005T183000
DTEND;TZID=America/New_York:20221005T193000
DTSTAMP:20260421T124857
CREATED:20220930T174726Z
LAST-MODIFIED:20220930T175734Z
UID:105325-1664994600-1664998200@www.brickbodies.com
SUMMARY:New Limited Yoga Series: Mobility Yoga
DESCRIPTION:Join Kraig Leatherman to improve performance and help prevent injury with Mobility Yoga! \nLooking for more depth in your squat? Feeling a pinch in your shoulders? Don’t let mobility issues decrease your strength and power output. \nBuild strength and increase your range of motion through intentional poses aimed at stretching and opening connective tissue like ligaments\, tendons and facia. This mix of movements also aids in muscle recovery and promotes relaxation. \nNo yoga experience required! Limited mats available\, please consider bringing your own. \nYou can register for classes three days in advance. \nMember Registration
URL:https://www.brickbodies.com/event/new-limited-yoga-series-mobility-yoga/2022-10-05/
CATEGORIES:Padonia
END:VEVENT
BEGIN:VEVENT
DTSTART;TZID=America/New_York:20220918T111500
DTEND;TZID=America/New_York:20220918T131500
DTSTAMP:20260421T124857
CREATED:20220826T171449Z
LAST-MODIFIED:20220826T173124Z
UID:102037-1663499700-1663506900@www.brickbodies.com
SUMMARY:Group Fitness Instructor Auditions
DESCRIPTION:Do you or someone you know have a passion for group fitness? Now is the time to share your spark! \nJoin us at our Padonia location for our Group Fitness Instructor Auditions. We are currently hiring for all locations. \nUse THIS form to connect for information- we can’t wait to meet you! \nREGISTRATION IS REQUIRED. Please submit the form above to save your spot!
URL:https://www.brickbodies.com/event/group-fitness-instructor-auditions/
CATEGORIES:Padonia
END:VEVENT
BEGIN:VEVENT
DTSTART;TZID=America/New_York:20220827T103000
DTEND;TZID=America/New_York:20220827T113000
DTSTAMP:20260421T124857
CREATED:20220727T152519Z
LAST-MODIFIED:20220727T152519Z
UID:98727-1661596200-1661599800@www.brickbodies.com
SUMMARY:BOGABalance Limited Series
DESCRIPTION:Join Kelly P. for the last of this FREE Limited Series Class \nCOOL OFF DURING OUR FUN SUMMER BOGABALANCE SERIES! \nThrough a series of carefully chosen poses\, you’ll improve your balance\, strength\, and flexibility while floating on water. This is the ultimate stability workout! \nClass size is limited. Registration is required. \nMember Registration
URL:https://www.brickbodies.com/event/bogabalance-limited-series/
CATEGORIES:Padonia
END:VEVENT
BEGIN:VEVENT
DTSTART;TZID=America/New_York:20220826T180000
DTEND;TZID=America/New_York:20220826T190000
DTSTAMP:20260421T124857
CREATED:20220727T151210Z
LAST-MODIFIED:20220727T152606Z
UID:98722-1661536800-1661540400@www.brickbodies.com
SUMMARY:Summer Send-Off Dance Party
DESCRIPTION:FREE Class with Nina Copley | IGNITE Studio \nSend the summer off in style with Nina as she brings the latest hit music and moves to life with Turn Up Dance Fitness- Dance Party. Dance Party is a high-intensity interval training dance workout that feels like you’re going out with your friends! Enjoy a total body workout while you let the beat move you\, and dance your heart out! \nThis event is free for members and guests\, so bring a friend! \nRegistration is required. Members please register through the website or the app\, guests can register through Eventbrite! \nMember Registration \nGuest Registration
URL:https://www.brickbodies.com/event/summer-send-off-dance-party/
CATEGORIES:Padonia
END:VEVENT
BEGIN:VEVENT
DTSTART;TZID=America/New_York:20220806T090000
DTEND;TZID=America/New_York:20220806T100000
DTSTAMP:20260421T124857
CREATED:20220727T152006Z
LAST-MODIFIED:20220727T152006Z
UID:98723-1659776400-1659780000@www.brickbodies.com
SUMMARY:Specialty Training Class: Yard Work!
DESCRIPTION:FREE Specialty Training Class led by Jamie Barron | Located in The Yard \nGet your heart pumping every Saturday in August with this circuit style workout consisting of a series of exercises targeting different muscle groups with little or no rest in between. \nAll members are welcome from beginners to advanced athletes. Come get your weekend started early! \nMember Registration
URL:https://www.brickbodies.com/event/specialty-training-class-yard-work/2022-08-06/
CATEGORIES:Padonia
END:VEVENT
BEGIN:VEVENT
DTSTART;VALUE=DATE:20220704
DTEND;VALUE=DATE:20220705
DTSTAMP:20260421T124857
CREATED:20220601T211517Z
LAST-MODIFIED:20220601T212045Z
UID:97389-1656892800-1656979199@www.brickbodies.com
SUMMARY:July 4th Holiday Hours
DESCRIPTION:4th of July Holiday Hours \nClub Hours: 6am – 2pm\nLittle Bricks Hours: 8 am – 1pm\nAquatics Hours: 6 am – 1pm
URL:https://www.brickbodies.com/event/july-4th-holiday-hours-padonia/
CATEGORIES:Padonia
END:VEVENT
BEGIN:VEVENT
DTSTART;TZID=America/New_York:20220611T100000
DTEND;TZID=America/New_York:20220611T110000
DTSTAMP:20260421T124857
CREATED:20220601T212500Z
LAST-MODIFIED:20220608T171854Z
UID:97392-1654941600-1654945200@www.brickbodies.com
SUMMARY:Core & Flexibility
DESCRIPTION:with Faith Woodyard | Free | Saturday in June 10am \nThis FREE 60-minute Core & Flexibility Team Training class is designed to help sculpt your core and lengthen your muscles. Get started from the inside out with the first 30-minutes focusing on core strength\, training abs\, obliques\, back and glutes. Then finishing off with a deep full body stretch to increase flexibility. \nRegister here
URL:https://www.brickbodies.com/event/core-flexibility/2022-06-11/
CATEGORIES:Padonia
END:VEVENT
END:VCALENDAR