BEGIN:VCALENDAR
VERSION:2.0
PRODID:-//Brick Bodies - ECPv6.6.4.2//NONSGML v1.0//EN
CALSCALE:GREGORIAN
METHOD:PUBLISH
X-WR-CALNAME:Brick Bodies
X-ORIGINAL-URL:https://www.brickbodies.com
X-WR-CALDESC:Events for Brick Bodies
REFRESH-INTERVAL;VALUE=DURATION:PT1H
X-Robots-Tag:noindex
X-PUBLISHED-TTL:PT1H
BEGIN:VTIMEZONE
TZID:America/New_York
BEGIN:DAYLIGHT
TZOFFSETFROM:-0500
TZOFFSETTO:-0400
TZNAME:EDT
DTSTART:20250309T070000
END:DAYLIGHT
BEGIN:STANDARD
TZOFFSETFROM:-0400
TZOFFSETTO:-0500
TZNAME:EST
DTSTART:20251102T060000
END:STANDARD
END:VTIMEZONE
BEGIN:VEVENT
DTSTART;TZID=America/New_York:20250704T060000
DTEND;TZID=America/New_York:20250704T140000
DTSTAMP:20260423T081945
CREATED:20250530T161511Z
LAST-MODIFIED:20250530T161511Z
UID:159073-1751608800-1751637600@www.brickbodies.com
SUMMARY:Holiday Hours for Independence Day
DESCRIPTION:Rotunda Holiday Club Hours\nIndependence Day | Friday\, July 4th \nClub: 6am- 2pm \nGroup Fitness\nGroup Fitness schedules are modified for the holidays. Please check the website or app schedule for available classes. \nView Schedule
URL:https://www.brickbodies.com/event/holiday-hours-for-independence-day/
CATEGORIES:Rotunda
END:VEVENT
BEGIN:VEVENT
DTSTART;TZID=America/New_York:20250706T123000
DTEND;TZID=America/New_York:20250706T133000
DTSTAMP:20260423T081945
CREATED:20250530T163035Z
LAST-MODIFIED:20250530T163035Z
UID:159079-1751805000-1751808600@www.brickbodies.com
SUMMARY:Puppies & Poses at Padonia
DESCRIPTION:Yoga Class with Adoptable Puppies at Padonia\nSunday\, July 6th at 12:30pm | Ignite | Free for Members \nWhat could be better than playing with puppies? Puppies and Poses!\nJoin us for a light-hearted yoga practice featuring puppies prancing through the poses. Saving Grace Rescue will be bringing their adorable adoptable puppies\, for play and cuddles! \nAdd this to your to do list for the weekend for sure! Donations recommended but not required. \nLimited spots available. Registration is open. Sign up to save your space! \nDonate to Saving Grace Animal Rescue
URL:https://www.brickbodies.com/event/puppies-poses-at-padonia-2/
CATEGORIES:Padonia,Reisterstown,Rotunda
END:VEVENT
BEGIN:VEVENT
DTSTART;VALUE=DATE:20250730
DTEND;VALUE=DATE:20250731
DTSTAMP:20260423T081945
CREATED:20250723T221224Z
LAST-MODIFIED:20250723T221224Z
UID:159220-1753833600-1753919999@www.brickbodies.com
SUMMARY:Vicki's Birthday Bash!
DESCRIPTION:Celebrate Vicki Brick-Zupancic’s Birthday BashWednesday\, July 30 | All Brick Bodies Locations \nJoin us in honoring the life and legacy of our former CEO\, Vicki Brick-Zupancic — a passionate leader who inspired movement\, connection\, and community. \nEnjoy free guest access all day at every Brick Bodies location as we celebrate Vicki’s love for fitness with friends and family. \nThen at 5:30 PM at Brick Bodies Padonia\, join us for a special 60-minute class featuring a blend of aerobics\, strength\, dance-inspired movement\, and cardio — set to throwback hits and some of Vicki’s favorite songs. Led by Lynne Brick\, alongside Erika Ruddie\, Elizabeth Graber\, Anne-Marie Bauermann\, and Sara Keller. \nAfter class\, stay for refreshments from Pure Raw Juice and a Happy Hour at 6:30 PM in the lobby with bites from Mother’s North Grille. \nWear purple or teal in support of ovarian cancer awareness. \nMembers can register through the Brick Bodies app.Non-members can RSVP by emailing Sara.Keller@brickbodies.com. \nLet’s celebrate Vicki the way she would’ve wanted — with energy\, joy\, and community.
URL:https://www.brickbodies.com/event/vickis-birthday-bash/
CATEGORIES:Padonia,Reisterstown,Rotunda
END:VEVENT
END:VCALENDAR