BEGIN:VCALENDAR
VERSION:2.0
PRODID:-//Brick Bodies - ECPv6.6.4.2//NONSGML v1.0//EN
CALSCALE:GREGORIAN
METHOD:PUBLISH
X-WR-CALNAME:Brick Bodies
X-ORIGINAL-URL:https://www.brickbodies.com
X-WR-CALDESC:Events for Brick Bodies
REFRESH-INTERVAL;VALUE=DURATION:PT1H
X-Robots-Tag:noindex
X-PUBLISHED-TTL:PT1H
BEGIN:VTIMEZONE
TZID:America/New_York
BEGIN:DAYLIGHT
TZOFFSETFROM:-0500
TZOFFSETTO:-0400
TZNAME:EDT
DTSTART:20250309T070000
END:DAYLIGHT
BEGIN:STANDARD
TZOFFSETFROM:-0400
TZOFFSETTO:-0500
TZNAME:EST
DTSTART:20251102T060000
END:STANDARD
END:VTIMEZONE
BEGIN:VEVENT
DTSTART;TZID=America/New_York:20250917T123000
DTEND;TZID=America/New_York:20250917T133000
DTSTAMP:20260421T041714
CREATED:20250829T200044Z
LAST-MODIFIED:20250829T200044Z
UID:159292-1758112200-1758115800@www.brickbodies.com
SUMMARY:Bike to Bootcamp
DESCRIPTION:specialty class with Jeanne-Michele Vigna | Wednesday September 17th | 12:30-1:30pm | Cycle Studio \nIn honor of Ovarian Cancer Awareness Month and in loving memory of Vicki Brick-Zupancic\, Brick Bodies is hosting dedicated specialty classes with optional donations going to the Ovarian Cancer Research Alliance. \nShift your fitness to new levels when you combine the cardio benefits of spinning and the muscle benefits of bootcamp training. \nJeanne-Michele will lead you through a specialty mash-up class starting with classic cardio to superior strength training. This class is a specialty in honor of Ovarian Cancer Awareness Month so sign-up before spaces fill! \n$10 donation to OCRA optional. Guests welcome with donation \n 
URL:https://www.brickbodies.com/event/bike-to-bootcamp/
CATEGORIES:Rotunda
END:VEVENT
END:VCALENDAR